BEGIN:VCALENDAR
VERSION:2.0
PRODID:-//St. John - Dyer Chamber of Commerce - ECPv6.5.1//NONSGML v1.0//EN
CALSCALE:GREGORIAN
METHOD:PUBLISH
X-WR-CALNAME:St. John - Dyer Chamber of Commerce
X-ORIGINAL-URL:https://stjohndyerchamber.com
X-WR-CALDESC:Events for St. John - Dyer Chamber of Commerce
REFRESH-INTERVAL;VALUE=DURATION:PT1H
X-Robots-Tag:noindex
X-PUBLISHED-TTL:PT1H
BEGIN:VTIMEZONE
TZID:America/Chicago
BEGIN:DAYLIGHT
TZOFFSETFROM:-0600
TZOFFSETTO:-0500
TZNAME:CDT
DTSTART:20240310T080000
END:DAYLIGHT
BEGIN:STANDARD
TZOFFSETFROM:-0500
TZOFFSETTO:-0600
TZNAME:CST
DTSTART:20241103T070000
END:STANDARD
END:VTIMEZONE
BEGIN:VEVENT
DTSTART;TZID=America/Chicago:20240806T170000
DTEND;TZID=America/Chicago:20240806T210000
DTSTAMP:20260419T155738
CREATED:20240717T155245Z
LAST-MODIFIED:20240717T161400Z
UID:10000103-1722963600-1722978000@stjohndyerchamber.com
SUMMARY:National Night Out Against Crime - Dyer
DESCRIPTION:Visit Our St. John-Dyer Chamber of Commerce Booth in Central Park!\n \nThe Dyer Police Department is hosting its annual National Night Out Against Crime 2024 on Tuesday\, August 6\, 2024\, from 5:00 P.M. to 9:00 P.M. \nThis year’s event will be held at Central Park\, located at 900 Central Park Boulevard just east of Calumet Avenue. The Dyer Police Department in conjunction with Dyer Fraternal Order of Police Lodge 169\, Town of Dyer entities\, businesses\, and members of our communities will come together to enjoy a fun-filled community event. It is our goal to collaborate with the community and build upon the events from the years past and continue to work together fighting crime\, educating our community\, and taking proactive measures to make our community stronger. \nThis year’s event will include a variety of displays\, information booths\, refreshments\, music\, and various games for the children. To keep building our event we need the support of the community. We are currently seeking businesses and organizations that would like to set up booths that represent their business and provide information or giveaways to the public. If unavailable to host a booth we are also seeking donations that will be used to fund the activities involved with the event. \nShould you decide to donate to the event we will display your company’s logo or donor’s name at the event as a sponsor. Please make checks payable to Town of Dyer and indicate in the memo line National Night Out or NNO. If you have any questions\, please do not hesitate to contact Commander Shane Hendron at shendron@townofdyer or call 219-865-1163. \nThank you for your continued support in keeping Dyer one of the safest communities in Indiana. DOWNLOAD A PARTICIPATION FORM HERE
URL:https://stjohndyerchamber.com/event/national-night-out-against-crime-dyer/
LOCATION:Central Park\, Dyer\, 46311
END:VEVENT
END:VCALENDAR