BEGIN:VCALENDAR
VERSION:2.0
PRODID:-//St. John - Dyer Chamber of Commerce - ECPv6.5.1//NONSGML v1.0//EN
CALSCALE:GREGORIAN
METHOD:PUBLISH
X-WR-CALNAME:St. John - Dyer Chamber of Commerce
X-ORIGINAL-URL:https://stjohndyerchamber.com
X-WR-CALDESC:Events for St. John - Dyer Chamber of Commerce
REFRESH-INTERVAL;VALUE=DURATION:PT1H
X-Robots-Tag:noindex
X-PUBLISHED-TTL:PT1H
BEGIN:VTIMEZONE
TZID:America/Chicago
BEGIN:DAYLIGHT
TZOFFSETFROM:-0600
TZOFFSETTO:-0500
TZNAME:CDT
DTSTART:20260308T080000
END:DAYLIGHT
BEGIN:STANDARD
TZOFFSETFROM:-0500
TZOFFSETTO:-0600
TZNAME:CST
DTSTART:20261101T070000
END:STANDARD
END:VTIMEZONE
BEGIN:VEVENT
DTSTART;TZID=America/Chicago:20260422T083000
DTEND;TZID=America/Chicago:20260422T093000
DTSTAMP:20260422T022932
CREATED:20260421T125814Z
LAST-MODIFIED:20260421T130841Z
UID:10000060-1776846600-1776850200@stjohndyerchamber.com
SUMMARY:Connecting Over Coffee Monthly Networking Event
DESCRIPTION:Join us on the fourth Wednesday of every month!\nThis is a casual networking opportunity where Chamber members can share feedback\, ideas\, and make connections. \n\n\n\nApril 22nd & May 27th will be hosted at The Daily Drip (710 Joliet St.\, Dyer)\nJune 24th & July 22nd will be hosted at Little Harts Play Cafe (2011 Hart St.) \nAugust 26th & September 30th will be hosted at The Daily Grind (10221 Calumet Ave) \nOctober 28th TBD\nNovember – December\, we will have a Holiday Pause to enjoy more time with family and friends!\n\n\n\nJoin us each month for coffee and conversation. Free to attend for members and open to the general public\, these events are a great way to stay connected!\nHear from our Board of Directors as well as committee members about what is new at the Chamber. Connect with members of our local business community to swap business cards\, make introductions\, and showcase what your business is promoting to a group of engaged peers. \nLocations vary for our coffee events. Email Office@stjohndyerchamber for a complete list of locations. If you are a Chamber Member Business and would like to host a Coffee Event\, reach out today at 219.365.4686.
URL:https://stjohndyerchamber.com/event/connecting-over-coffee-monthly-networking-event-2-2-2-2/
LOCATION:The Daily Drip\, 14817 West 101st Ave\, Dyer\, IN\, 46311\, United States
ORGANIZER;CN="St. John-Dyer Chamber":MAILTO:office@stjohndyerchamber.com
END:VEVENT
END:VCALENDAR